BEGIN:VCALENDAR
VERSION:2.0
PRODID:-//Peddler&#039;s Village - ECPv6.15.20//NONSGML v1.0//EN
CALSCALE:GREGORIAN
METHOD:PUBLISH
X-WR-CALNAME:Peddler&#039;s Village
X-ORIGINAL-URL:https://peddlersvillage.com
X-WR-CALDESC:Events for Peddler&#039;s Village
REFRESH-INTERVAL;VALUE=DURATION:PT1H
X-Robots-Tag:noindex
X-PUBLISHED-TTL:PT1H
BEGIN:VTIMEZONE
TZID:America/New_York
BEGIN:DAYLIGHT
TZOFFSETFROM:-0500
TZOFFSETTO:-0400
TZNAME:EDT
DTSTART:20250309T070000
END:DAYLIGHT
BEGIN:STANDARD
TZOFFSETFROM:-0400
TZOFFSETTO:-0500
TZNAME:EST
DTSTART:20251102T060000
END:STANDARD
BEGIN:DAYLIGHT
TZOFFSETFROM:-0500
TZOFFSETTO:-0400
TZNAME:EDT
DTSTART:20260308T070000
END:DAYLIGHT
BEGIN:STANDARD
TZOFFSETFROM:-0400
TZOFFSETTO:-0500
TZNAME:EST
DTSTART:20261101T060000
END:STANDARD
BEGIN:DAYLIGHT
TZOFFSETFROM:-0500
TZOFFSETTO:-0400
TZNAME:EDT
DTSTART:20270314T070000
END:DAYLIGHT
BEGIN:STANDARD
TZOFFSETFROM:-0400
TZOFFSETTO:-0500
TZNAME:EST
DTSTART:20271107T060000
END:STANDARD
END:VTIMEZONE
BEGIN:VEVENT
DTSTART;TZID=America/New_York:20260315T094500
DTEND;TZID=America/New_York:20260315T114500
DTSTAMP:20260420T160557
CREATED:20220216T224104Z
LAST-MODIFIED:20260203T204241Z
UID:10002889-1773567900-1773575100@peddlersvillage.com
SUMMARY:Shake your Shamrock - Scoogie Fun Run
DESCRIPTION:Shake Your Shamrock with Scoogie features events for EVERYONE in your family\n• Shake Your Shamrock 8k\n• Shake Your Shamrock 5k\n• Little Leprechaun 1/2 Mile Kid’s Fun Run\n• Pot o’ Gold 2 Mile Fun Run Walk\nWe suggest parking at Giggleberry Fair. \nRegister hereWe expect a quick sell-out\, so register early! \nEvent organized by Scoogie Events. Presented by Scoogie Events and Peddler’s Village. In partnership with Bucks County Opportunity Council.
URL:https://peddlersvillage.com/event/scoogie-shamrock-run/
LOCATION:Peddler’s Village\, 2400 Street Road\, New Hope\, PA\, 18938\, United States
CATEGORIES:Home Event,Outdoor Event,Peddler's Village Events,St. Patrick's
ATTACH;FMTTYPE=image/jpeg:https://peddlersvillage.com/wp-content/uploads/2022/02/ScoogieShamrock-1008x567-1.jpg
END:VEVENT
END:VCALENDAR