BEGIN:VCALENDAR
VERSION:2.0
PRODID:-//Peddler&#039;s Village - ECPv6.15.20//NONSGML v1.0//EN
CALSCALE:GREGORIAN
METHOD:PUBLISH
X-WR-CALNAME:Peddler&#039;s Village
X-ORIGINAL-URL:https://peddlersvillage.com
X-WR-CALDESC:Events for Peddler&#039;s Village
REFRESH-INTERVAL;VALUE=DURATION:PT1H
X-Robots-Tag:noindex
X-PUBLISHED-TTL:PT1H
BEGIN:VTIMEZONE
TZID:America/New_York
BEGIN:DAYLIGHT
TZOFFSETFROM:-0500
TZOFFSETTO:-0400
TZNAME:EDT
DTSTART:20250309T070000
END:DAYLIGHT
BEGIN:STANDARD
TZOFFSETFROM:-0400
TZOFFSETTO:-0500
TZNAME:EST
DTSTART:20251102T060000
END:STANDARD
BEGIN:DAYLIGHT
TZOFFSETFROM:-0500
TZOFFSETTO:-0400
TZNAME:EDT
DTSTART:20260308T070000
END:DAYLIGHT
BEGIN:STANDARD
TZOFFSETFROM:-0400
TZOFFSETTO:-0500
TZNAME:EST
DTSTART:20261101T060000
END:STANDARD
BEGIN:DAYLIGHT
TZOFFSETFROM:-0500
TZOFFSETTO:-0400
TZNAME:EDT
DTSTART:20270314T070000
END:DAYLIGHT
BEGIN:STANDARD
TZOFFSETFROM:-0400
TZOFFSETTO:-0500
TZNAME:EST
DTSTART:20271107T060000
END:STANDARD
END:VTIMEZONE
BEGIN:VEVENT
DTSTART;VALUE=DATE:20260420
DTEND;VALUE=DATE:20260526
DTSTAMP:20260422T124312
CREATED:20240209T172440Z
LAST-MODIFIED:20260410T185741Z
UID:10005343-1776643200-1779753599@peddlersvillage.com
SUMMARY:Best of the Nest: Birdhouse Competition & Display
DESCRIPTION:An im-peck-able outdoor display!\nCelebrating nature\, habitats\, feathered friends\, and human creativity. \nPresented in partnership with AIA Bucks County and the Honey Hollow Nature Center celebrating\nThe 3rd annual Best of the Nest: Birdhouse Competition & Display runs from April 20 through May 25\, 2026 and showcases unique birdhouses designed and built by members of the public. Winners in each category are named by architects and bird experts. Scroll for this year’s winners! \n\nVote for your favorite birdhouse until May 10 through the Peddler’s Village mobile app \n\n\nCheck out all the Best of the Nest fun in this segment from WFMZ 69! \n\nSupport Local Nonprofits\nFor this event\, Peddler’s Village is proud to partner with the Bucks County Chapter of the American Institute of Architects and the Honey Hollow Nature Center. \nBy participating in this event as either a birdhouse creator or a visitor\, you can support two local nonprofits. Creators can donate their birdhouses to a fundraising auction\, and visitors can donate either directly or by “buying” additional votes for their People’s Choice favorites. Donations can be made and ballots can be obtained at the Visitor and Event Center on Street Road. \n\nBucks County Audubon Society at Honey Hollow \nHoney Hollow Nature Center was founded in 1969 to educate and engage children and adults of the greater Bucks County region about our natural world\, with an emphasis on conservation and stewardship\, including protection of birds\, wildlife\, and habitats. \nWe’re just around the corner from Peddler’s Village. Honey Hollow Nature Center maintains a thriving nature preserve with over six miles of hiking trails that are open to the public from dawn to dusk every day for hiking\, bird watching\, or just enjoying. The grounds boast an organic vegetable garden\, Audubon Pond\, meadows\, forests\, and of course\, the Honey Hollow creek. \nHoney Hollow Nature Center offers a wide variety of programs for all ages. Each year Honey Hollow provides high quality educational programs for over 5\,000 people\, from children at summer camp and field trips to birding trips and lectures for all ages. Visit honeyhollownaturecenter.org for more information on our programs. Venmo: @HoneyHollowTrails  \n\nAIA Bucks County’s George J. Donovan Memorial Scholarship \nAIA Bucks County’s George J. Donovan Memorial Scholarship assists Bucks County high school graduates (graduating seniors) interested in furthering their education in architecture and related fields. The scholarship was created in memory of George J. Donovan\, AIA who was instrumental in shaping the architecture of Bucks County during his career of over 50 years until his passing in 2018. In his retirement\, Mr. Donovan was a prolific watercolor artist who displayed his work in the former Upstairs Gallery at Peddler’s Village. Over the years\, Mr. Donovan and the firm that is part of his legacy\, Phillips & Donovan Architects\, LLC\, have been instrumental in the planning and design of many of the buildings in Peddler’s Village.
URL:https://peddlersvillage.com/event/best-of-the-nest/
LOCATION:Peddler’s Village\, 2400 Street Road\, New Hope\, PA\, 18938\, United States
CATEGORIES:Display,Family Fun,Home Event,Peddler's Village Events
ATTACH;FMTTYPE=image/jpeg:https://peddlersvillage.com/wp-content/uploads/2024/02/PV-Nest25_1008x567.jpg
END:VEVENT
BEGIN:VEVENT
DTSTART;TZID=America/New_York:20260502T110000
DTEND;TZID=America/New_York:20260503T180000
DTSTAMP:20260422T124312
CREATED:20230405T195002Z
LAST-MODIFIED:20260421T164719Z
UID:10002258-1777719600-1777831200@peddlersvillage.com
SUMMARY:Strawberry Festival
DESCRIPTION:Presenting Sponsor: Pepsi \nStrawberry fun at Peddler’s Village since 1978!\nCelebrate berry sweet traditions at Strawberry Festival on Saturday & Sunday\, May 2 & 3 from 11 a.m. to 6 p.m. The weekend will include strawberry-themed food\, beverages\, live music\, food trucks\, kids’ activities\, and shop specials. Peddler’s Village shops will be open until 8 p.m. on Saturday. Admission is free. \nDuring the month of May\, savor strawberry-themed food and drink specials served every day in our restaurants and eateries. \n\nVIP Parking\nGuarantee premier parking at this year’s Strawberry Festival. Click here for more information. \n\nEvent Schedule\nSchedule is subject to change. \nSaturday\, May 2\nActivities\nSome activities are pay-as-you-go \n11am – 6pm\, Red Barn Field\nSand Art\nFace Painting\nLawn Games\nBootlegger Bo’s Gem Mine \n11am – 6pm\, Street Road Green\nThrowHouse Axe Throwing\nPhoto Op Location\nMobile Gel Blaster Battlefield \nLive Entertainment\n11am – 1pm\, Gazebo\nVintage Vibe Tribe \n12pm – 2pm\, Wagon House Pad\nElena Stenkina \n1pm – 3pm\, Courtyard\nMartin & Kelly \n1pm – 3pm\, Village Green\nGive & Take Jugglers \n1pm – 4pm\, Strolling\nGalena Brass Band \n2:30pm\, Village Green Balcony\nPie-Eating Contest \n3pm – 6pm\, Gazebo\nBig Chill \n3pm – 6pm\, Event Tent\nAaron Qman \nDining\nCock ‘n Bull Bakery Tent \nThe Lucky Cupcake Company in-store & tent\nChocolate strawberry shortcake cupcakes\, pies\, cakes\, donuts\, cookies\, and more!View menu. \nStrawberry Fritters Tent \nWaterwheel Tent \n11am – 6pm\, Red Barn Field\nBacon on a Stick\nCousins Maine Lobster \nFull- and quick-service restaurants and eateries featuring strawberry specials all month. \nSunday\, May 3\nActivities\nSome activities are pay-as-you-go \n11am – 6pm\, Red Barn Field\nSand Art\nFace Painting\nLawn Games\nBootlegger Bo’s Gem Mine \n11am – 6pm\, Street Road Green\nThrowHouse Axe Throwing\nPhoto Op Location\nMobile Gel Blaster Battlefield \n10am – 3pm\, Village Wide\nThe Great Strawberry Strut \n2:30pm\, Village Green Balcony\nPie-Eating Contest \nLive Entertainment\n11am – 1pm\, Gazebo\nRendition Jazz Band \n12pm – 2pm\, Cock n Bull Lawn\nJade Skylar \n12pm – 3pm\, Wagon House Pad\nRJ Steward \n1pm – 3pm\, Village Green\nGive & Take Jugglers \n1pm – 3pm\, Strolling\nJersey Harmony Chorus \n1pm – 4pm\, Event Tent\nAaron Qman \n3pm – 6pm\, Gazebo\nMartin & Kelly \nDining\n11am – 6pm\, Red Barn Field\nBacon on a Stick\nCousins Maine Lobster\nLocal Harvest Pizza \nCock ‘n Bull Bakery Tent \nThe Lucky Cupcake Company in-store & tent\nChocolate strawberry shortcake cupcakes\, pies\, cakes\, donuts\, cookies\, and more!View menu. \nStrawberry Fritters Tent \nWaterwheel Tent \nFull- and quick-service restaurants and eateries featuring strawberry specials all month. \n\nThe Great Strawberry Strut\nGuests are invited to strut their stuff in The Great Strawberry Strut on Sunday from 10 a.m. – 3 p.m.! Guests who come dressed in strawberry-themed outfits or costumes can check in at the kiosk on the Village Green for a chance to win prizes (dogs\, too!). All guests who participate are entered into a giveaway to win a $100 Peddler’s Village gift card. Festival goers can download the Peddler’s Village app and vote for their favorite berry-themed costumes. The individual or group with the most votes will be announced after the Pie-Eating Contest (around 3:00pm). \n\nStrawberry Shopping!\nExtra Virgin\nStrawberry champagne vinegar\, rhubarb berry champagne vinegar \nFehrenbach Black Forest Clocks and Gifts\nStrawberry hard candies\, strawberry gummies\, strawberry licorice\, chocolate bars with strawberry\, strawberry wafer cookies\, strawberry jam\, strawberry yogurt \nHewn Spirits\nStrawberry lemonade (with or without vodka)\, strawberry lemonade slushy with vodka \nLahaska Bookshop\nStrawberry-themed books \nMoku Bowls\nStrawberry smoothies\, açaí bowls with strawberry and nutella \nNina’s Waffles & Ice Cream\nDouble strawberry cookie crunch ice cream\, strawberry sorbet\, strawberry waffle sundae \nPine Wreath & Candle\nStrawberry-scented candles\, strawberry ornaments \nSkip’s Candy Corner\nChocolate-covered strawberries\, chocolate strawberry fudge\, strawberry shortcake fudge\, strawberry chocolate clusters\, wild bill’s strawberry ring pop craft soda \nThe Soap Opera Company\nStrawberry bath bombs \nSticky Situations\nStrawberry honey\, Strawberry shortcake honey mashup \nThomas Kinkade Lighthouse Galleries\nAssortment of Gift Items Featuring “The Strawberry Thief” by William Morris. \n\nPresenting Sponsor\nThank you to our sponsors\nSponsorship OpportunitiesEntertainment Inquiries\nTag us (@peddlersvillage) in your photos on Instagram and Facebook! Happy strolling\, dining\, and shopping!\nPeddler’s Village regularly photographs events held on its property and periodically publishes these photographs on its website and social media channels. Media outlets might also take photographs and/or videos that will be broadcast publicly. It is possible the published photos or videos could include you and/or family members. Attendance at our events implies permission for us and other entities to include you in any photographs shared on any public platforms\, digital or otherwise. If you object to appearing in any photographs\, please email info@peddlersvillage.com before you attend an event. Thank you.
URL:https://peddlersvillage.com/event/strawberry-festival-2/
LOCATION:Peddler’s Village\, 2400 Street Road\, New Hope\, PA\, 18938\, United States
CATEGORIES:Family Fun,Festival,Free Event,Home Event,Outdoor Event,Peddler's Village Events
ATTACH;FMTTYPE=image/jpeg:https://peddlersvillage.com/wp-content/uploads/2023/04/PV-StrawberryFestival_1008x567.jpg
END:VEVENT
BEGIN:VEVENT
DTSTART;TZID=America/New_York:20260503T110000
DTEND;TZID=America/New_York:20260503T170000
DTSTAMP:20260422T124312
CREATED:20260313T200115Z
LAST-MODIFIED:20260313T202408Z
UID:10007501-1777806000-1777827600@peddlersvillage.com
SUMMARY:Vintage Book Sale at Lahaska Bookshop
DESCRIPTION:Lahaska: Vintage Book Sale\n\nGene Tutwiler will be at the Lahaska Bookshop on Sunday\, May 3rd\, from 11:00 AM – 5:00 PM to sell copies of vintage and rare books from his personal collection. \nAbout Gene: \nWhen Dr. Gene Tutwiler\, Ph.D.\, retired from a nearly 40-year career in the biopharmaceutical industry\, he turned his love of reading into acquiring antiquarian and modern first editions\, which he felt were important and collectible. Occasionally\, he offers some of his massive collection for others to enjoy. View his website for more info: https://www.tutstomes.com/
URL:https://peddlersvillage.com/event/vintage-book-sale-at-lahaska-bookshop/
LOCATION:Lahaska Bookshop\, Shop #162A
CATEGORIES:Merchant Event
ATTACH;FMTTYPE=image/jpeg:https://peddlersvillage.com/wp-content/uploads/2024/04/LahaskaBook-sale.jpg
END:VEVENT
BEGIN:VEVENT
DTSTART;TZID=America/New_York:20260509T090000
DTEND;TZID=America/New_York:20260509T103000
DTSTAMP:20260422T124312
CREATED:20260126T194949Z
LAST-MODIFIED:20260126T195439Z
UID:10007364-1778317200-1778322600@peddlersvillage.com
SUMMARY:Bloom & Bond at Greenology
DESCRIPTION:Bloom & Bond\, A Mother’s Day Container Garden Workshop \nWhen: May 9\, Saturday 9-10:30 AM\nWhere: Greenology Organic Living\n2449 Street Rd. Peddler’s Village Shop 23 A\, New Hope\, PA 18938 \nCelebrate Mother’s Day with flowers\, connection\, and a little creative joy at Bloom & Bond: A Container Garden Workshop. \nUnleash your inner green thumb and learn the secrets of crafting a sensational container garden that dazzles from summer to fall. \nOur garden experts will spill the beans on picking the perfect plants\, prepping the soil just right\, and nailing the ideal plant placements. Get ready for top-secret tips on keeping your garden in full bloom from summer’s sizzle to fall’s cool breeze. \nWhether you’re a seasoned gardener or a budding plant parent\, this workshop is your ticket to sprucing up your doorstep or patio with a burst of floral fabulousness. \nGet ready for a bloomin’ good time at this must-attend event! \nPurchase Tickets\n\n✨Your Experience Includes:\nIntroduction to Container Gardening. \nCarefully curated selection of Long Blooming Flowering Plants \nAll Materials (Soil &\, Organic Amendments\, & Tools) \nA detailed Instructional Step by step Guide \nA sweet 20% Off Shopping Voucher to keep the garden party going! \n🌼 No experience necessary. Just come ready to create\, connect\, and celebrate the women who make life beautiful. \n Spots are limited to keep the experience intimate. Reserve yours early!
URL:https://peddlersvillage.com/event/81716/
LOCATION:Greenology Organic Living\, Shop #23
CATEGORIES:Merchant Event
ATTACH;FMTTYPE=image/png:https://peddlersvillage.com/wp-content/uploads/2026/01/Greenology-mom26.png
END:VEVENT
BEGIN:VEVENT
DTSTART;VALUE=DATE:20260510
DTEND;VALUE=DATE:20260511
DTSTAMP:20260422T124312
CREATED:20190506T170720Z
LAST-MODIFIED:20260410T182852Z
UID:10002545-1778371200-1778457599@peddlersvillage.com
SUMMARY:Mother's Day Dining
DESCRIPTION:A Mother’s Day to remember at Peddler’s Village\nMother’s Day takes on a special kind of magic at Peddler’s Village\, where a day of shopping\, dining\, and strolling turns into something truly memorable. From a fabulous seasonal dining specials at Cock ‘n Bull Restaurant\, Buttonwood Grill\, and Earl’s New American\, there’s no shortage of ways to celebrate. \nMother’s Day Dining at Cock ‘n Bull Restaurant\nSunday\, May 10\nCelebrate mom with a la carte dining at Cock ‘n Bull Restaurant! Featuring brunch specials served until 3pm\, signature plates\, and spring specials. Click here to view the menu. \nReservations\nFor large parties of 6 or more\, please call 215-794-4010 \nPlease note: Groups of six or more may be seated upstairs in our Cock ‘n Bull banquet rooms during lunch service. This is full\, sit-down service\, not buffet-style.  \nMother’s Day Specials at Buttonwood Grill\nSunday\, May 10\nEnjoy a la carte specials from 11:00 am – 3:00 pm \nDrinks\nSenorita Margarita 12\nHornitos tequila | Triple sec | Lemonade\nFresh raspberries | Club soda \nBerry lemonade 8 n/a\nLemonade | Fresh raspberries \nSpecials\nYogurt Parfait 11.5\nVanilla yogurt | Granola | Fresh berries \nCinnamon French Toast Soldiers 14.5\nMaple syrup | Crème anglaise\nApplewood-smoked bacon or Sausage links \nPressed Watermelon Salad 15.95\nBurrata | Mint oil\nAdd a protein: Grilled or Blackened Salmon +9\nGrilled Shrimp +10 | Grilled Chicken +8 \nLobster Benedict 24.5\nPoached eggs | Lobster | Sautéed spinach\nServed on homemade tater tots | Hollandaise \nMake ReservationsMother’s Day Specials at Earl’s New American\nSunday\, May 10  \nEnjoy a la carte specials from 11:00 am – 4:00 pm\nTempura-Stuffed Zucchini blossoms 9\nStuffed with ricotta & mozzarella\, tarragon\, preserved lemon aioli \nStrawberry Panzanella 12\nFocaccia croutons\, mixed greens\, tri-colored cherry tomatoes\, burrata \nSkirt Steak Pinwheel 37\nBasil feta & olive tapenade\, stuffed skirt steak\, Spring pea pistou\, oven-dried tomatoes\, Spring asparagus \nSwordfish Piccata 34\nLump crab meat\, capers\, oven-roasted tomatoes\, spinach\, Yukon Gold potato hash \nMake Reservations
URL:https://peddlersvillage.com/event/mothers-day/
LOCATION:Peddler’s Village\, 2400 Street Road\, New Hope\, PA\, 18938\, United States
CATEGORIES:Dining Event,Home Event,Peddler's Village Events
ATTACH;FMTTYPE=image/jpeg:https://peddlersvillage.com/wp-content/uploads/2025/03/PV-mom.jpg
END:VEVENT
BEGIN:VEVENT
DTSTART;TZID=America/New_York:20260515T120000
DTEND;TZID=America/New_York:20260515T130000
DTSTAMP:20260422T124312
CREATED:20260313T134036Z
LAST-MODIFIED:20260421T164333Z
UID:10006998-1778846400-1778850000@peddlersvillage.com
SUMMARY:Bucks Fever Tunes at Noon
DESCRIPTION:Presented in partnership with the Central Bucks Chamber of Commerce \nFree lunchtime concerts every Friday at noon!\nTunes at Noon is back! Head over to the Peddler’s Village main green every Friday from May 15 through August 28 to hear free performances by talented local musicians. Before the show\, place a takeout order at one of the many Peddler’s Village restaurants\, or dine afterwards in an air-conditioned restaurant or alfresco\, surrounded by picturesque Village scenery. \nMay 15\nThe Abandoned Lounge \nMay 22\nToo Many Cooks \nMay 29\nTBD \nJune 05\nCentral Bucks Groove Cuts Rock Band \nJune 12\nBreakfast at Judy’s \nJune 19\nGood Intentions \nJune 26\nTBD \nJuly 10\nTBD \nJuly 17\nCheaky \nJuly 24\nStephen Dijoseph \nJuly 31\nRangers Nouveau Band-Carm Solo \nAugust 07\nSchool of Rock Doylestown \nAugust 14\nGene Cullison Solo \nAugust 21\nAndrew Lobby \nAugust 28\nJay Regen
URL:https://peddlersvillage.com/event/tunes-at-noon/2026-05-15/
LOCATION:Peddler’s Village\, 2400 Street Road\, New Hope\, PA\, 18938\, United States
CATEGORIES:Family Fun,Free Event,Home Event,Outdoor Event,Peddler's Village Events
ATTACH;FMTTYPE=image/gif:https://peddlersvillage.com/wp-content/uploads/2026/03/PV-Tunes25_01.gif
END:VEVENT
BEGIN:VEVENT
DTSTART;TZID=America/New_York:20260516T190000
DTEND;TZID=America/New_York:20260516T213000
DTSTAMP:20260422T124312
CREATED:20260218T230455Z
LAST-MODIFIED:20260221T185139Z
UID:10007474-1778958000-1778967000@peddlersvillage.com
SUMMARY:Murder Mystery Dinner: 'Til Death Do Us Part!
DESCRIPTION:‘Til Death Do Us Part!\nAll is fair in love and murder\nPresented in partnership with The Murder Mystery Co. \nA picture-perfect wedding takes an unexpected and deadly turn when a member of the bridal party is found murdered. As sparks fly between a demanding bride and a less-than-eager groom\, secrets\, rivalries\, and hidden agendas are revealed to the astonished guests. \nGuests are invited to step into this “marry” mystery—sharing theories\, uncovering clues\, and savoring the twists along the way—to solve the crime before the final vows are exchanged. Will justice prevail or will this celebration become the most unforgettable “I don’t” in wedding history? \nPlease note: Parties of fewer than ten people will likely be seated with others. The guests at each table will work together to solve the mystery. Part of the fun of this event is meeting and talking with new people. After the event\, you just might add new friendships to the list of evening accomplishments! \nPurchase TicketsWhat\nAn interactive murder mystery dinner featuring professional actors and several guests who become…suspects \nCost: $77 per person + processing fee. Gratuity included. \nWhen\nSaturday\, May 16 from 7:00 – 9:30 p.m. \nPlease arrive by 6:00 p.m. in the Cock ‘n Bull lobby (located at Route 263 & Street Road\, Lahaska\, PA 18931) \nWhere\nCock ‘n Bull Restaurant\n(See accessibility information below) \n\nMenu\nStarter\nGarden Salad  (GF)\nbalsamic vinaigrette \nEntree\nChoice of one:\nRoasted Chicken Breast\nCornbread stuffing\, asparagus\, chicken jus \nCherry Glazed Grilled Salmon (GF)\nRoasted potato\, roasted corn succotash \nGinger-BBQ Short Rib\nSmashed potatoes\, asparagus \nRoasted Vegetable Frites (GF / V)\nBaby portobello mushrooms\, baby carrots\, broccoli\, broiled tomatoes\, fries\, served with a red wine reduction \nDessert\nCheesecake\nberry sauce \nCash Bar\nOpens at 6:30 p.m. through end of show \n\nImportant notes\n\nSome adult humor. Guests should be 18 and over.\nGuests are encouraged to wear festive and creative wedding-themed attire.\nThis is designed as an interactive mystery in which guests are encouraged\, but not required\, to pose questions to actors and suspects to solve the mystery\n\nMake it an Overnight Stay\nHere’s a clue to turn your murder mystery evening into an overnight stay: book a room at the Golden Plough Inn at Peddler’s Village! Learn more. \n\nCANCELLATION POLICY\nThis event is rain or shine. Tickets purchased for Murder Mystery Events at Peddler’s Village are non-refundable. If you cannot attend your reserved date\, please call 215-794-4037 at least 4 days prior to your reserved date to reschedule your reservation to a later show. Peddler’s Village reserves the right to cancel show dates. Bookings for murder mystery guests at the Golden Plough Inn are also non-refundable unless cancelled at least four days in advance. \nNote: Guests will not receive physical tickets for this event. A completed purchase registers guests automatically for the event and guests can check-in with their names. Your email receipt serves as proof of purchase but guests do not need to present it at the performance. \n\nSeating\nSeating is general admission. Please note that parties fewer than ten will share a table with other attendees. Please put seating preferences in the appropriate box at checkout\, and we will try and accommodate your request. \n\nDietary Restrictions\nPlease list any dietary restrictions and allergies in the “Additional Information” box located on the upcoming Checkout page. We recommend booking by phone (215-794-4037) so we can best accommodate your diet. \nAccessibility\nShows will be held in the second floor banquet rooms of Cock ‘n Bull Restaurant\, which are accessible by both elevator and staircase. Please call our Reservation Manager at 215-794-4037 from 10:00 a.m.-5:00 p.m. for more information. \nPhotography\nAttendance at our events implies permission for us and other entities to include you in any photographs shared on any public platforms\, digital or otherwise. If you object to appearing in any photographs\, please email info@peddlersvillage.com. \nBe aware of potential scams!\nNever purchase tickets for a Peddler’s Village event from an unknown third party. Contact Guest Services (215-794-4051 or gservices@peddlersvillage.com) to ask about tickets availability\, wait lists\, etc. Peddler’s Village will NOT honor any tickets that are not purchased directly from PeddlersVillage.com or in person at our Visitor & Event Center.
URL:https://peddlersvillage.com/event/mm-tildeath-051626/
LOCATION:Cock ‘n Bull Restaurant\, Route 263 & Street Road\, Lahaska\, PA\, 18931\, United States
CATEGORIES:Dining Event,Home Event,Peddler's Village Events
ATTACH;FMTTYPE=image/jpeg:https://peddlersvillage.com/wp-content/uploads/2026/02/WeddingCake-1008x567-1.jpg
GEO:40.348283;-75.0327604
X-APPLE-STRUCTURED-LOCATION;VALUE=URI;X-ADDRESS=Cock ‘n Bull Restaurant Route 263 & Street Road Lahaska PA 18931 United States;X-APPLE-RADIUS=500;X-TITLE=Route 263 & Street Road:geo:-75.0327604,40.348283
END:VEVENT
BEGIN:VEVENT
DTSTART;TZID=America/New_York:20260521T180000
DTEND;TZID=America/New_York:20260521T210000
DTSTAMP:20260422T124312
CREATED:20260408T145309Z
LAST-MODIFIED:20260415T193205Z
UID:10007516-1779386400-1779397200@peddlersvillage.com
SUMMARY:Buttonwood Tequila Dinner
DESCRIPTION:Four-course pairing menu with Latin-inspired cuisine\, highlighted by select tequilas and tequila-based cocktails\nJoin Buttonwood Grill for a casual\, social evening of discussions and culinary appreciation featuring Latin-inspired cuisine expertly prepared by chefs Alberto Novoa\, Rudy Santiago\, and the culinary team\, and paired with hand-crafted cocktails featuring a range of tequilas. \nReservations required. Limited to 45 guests. \nPurchase TicketsWhere: Buttonwood Grill\nWhen: Thursday\, May 21\, 2026\, 6:00pm – 9:00pm\nWho: Guests ages 21+\nCost: $110++ \nPairing Menu\nCourse 1.\n–Chips & Stuff Tortilla & plantain chips\, guacamole\, pico de gallo\, salsa roja\, tomatillo salsa.\n–Charred Poblano Hush Puppies with hot honey.\n–Plantain Empanadas filled with cheddar cheese.\nPaired with: Verde Amaras Mezcal Mule \nCourse 2.\nScallops Aguachile\nScallops\, cucumber\, cilantro\, dragonfruit\, lime juice\n(Vegetarian option: poached jicama ceviche style)\nPaired with: Hornitos Blanco in a Ranch Water Cocktail \nCourse 3.\nCorn Tamales \nBronzino\, sweet corn sauce\, red peppers\nPaired with: Tres Generaciones Reposado Old Fashioned \nCourse 4.\nPassion Fruit Tres Leches\nGarnished with candied orange peel\nPaired with: Tres Generaciones Anejo Carajillo \nWhat guests were saying about the previous Tequila Dinner…\n\n“This experience greatly exceeded my expectations. Meeting the culinary director and chefs enhanced our understanding of the food & drinks\, taking the experience to the next level.” \n\n“Thank you\, we can see how much the staff cares about the customers. Everything was wonderful!” \n\n“Food was amazing! People we sat with were very nice. Drinks for incredible as well\, thank you!” \n\n“Every course was amazing! Delicious food.”
URL:https://peddlersvillage.com/event/bwg-tequiladinner052126/
LOCATION:Buttonwood Grill\, Shop #16
CATEGORIES:Dining Event,Home Event,Peddler's Village Events
ATTACH;FMTTYPE=image/jpeg:https://peddlersvillage.com/wp-content/uploads/2026/04/BWG-tequila0526.jpg
END:VEVENT
BEGIN:VEVENT
DTSTART;TZID=America/New_York:20260522T120000
DTEND;TZID=America/New_York:20260522T130000
DTSTAMP:20260422T124312
CREATED:20260313T134036Z
LAST-MODIFIED:20260421T164333Z
UID:10007485-1779451200-1779454800@peddlersvillage.com
SUMMARY:Bucks Fever Tunes at Noon
DESCRIPTION:Presented in partnership with the Central Bucks Chamber of Commerce \nFree lunchtime concerts every Friday at noon!\nTunes at Noon is back! Head over to the Peddler’s Village main green every Friday from May 15 through August 28 to hear free performances by talented local musicians. Before the show\, place a takeout order at one of the many Peddler’s Village restaurants\, or dine afterwards in an air-conditioned restaurant or alfresco\, surrounded by picturesque Village scenery. \nMay 15\nThe Abandoned Lounge \nMay 22\nToo Many Cooks \nMay 29\nTBD \nJune 05\nCentral Bucks Groove Cuts Rock Band \nJune 12\nBreakfast at Judy’s \nJune 19\nGood Intentions \nJune 26\nTBD \nJuly 10\nTBD \nJuly 17\nCheaky \nJuly 24\nStephen Dijoseph \nJuly 31\nRangers Nouveau Band-Carm Solo \nAugust 07\nSchool of Rock Doylestown \nAugust 14\nGene Cullison Solo \nAugust 21\nAndrew Lobby \nAugust 28\nJay Regen
URL:https://peddlersvillage.com/event/tunes-at-noon/2026-05-22/
LOCATION:Peddler’s Village\, 2400 Street Road\, New Hope\, PA\, 18938\, United States
CATEGORIES:Family Fun,Free Event,Home Event,Outdoor Event,Peddler's Village Events
ATTACH;FMTTYPE=image/gif:https://peddlersvillage.com/wp-content/uploads/2026/03/PV-Tunes25_01.gif
END:VEVENT
BEGIN:VEVENT
DTSTART;TZID=America/New_York:20260529T120000
DTEND;TZID=America/New_York:20260529T130000
DTSTAMP:20260422T124313
CREATED:20260313T134036Z
LAST-MODIFIED:20260421T164333Z
UID:10007486-1780056000-1780059600@peddlersvillage.com
SUMMARY:Bucks Fever Tunes at Noon
DESCRIPTION:Presented in partnership with the Central Bucks Chamber of Commerce \nFree lunchtime concerts every Friday at noon!\nTunes at Noon is back! Head over to the Peddler’s Village main green every Friday from May 15 through August 28 to hear free performances by talented local musicians. Before the show\, place a takeout order at one of the many Peddler’s Village restaurants\, or dine afterwards in an air-conditioned restaurant or alfresco\, surrounded by picturesque Village scenery. \nMay 15\nThe Abandoned Lounge \nMay 22\nToo Many Cooks \nMay 29\nTBD \nJune 05\nCentral Bucks Groove Cuts Rock Band \nJune 12\nBreakfast at Judy’s \nJune 19\nGood Intentions \nJune 26\nTBD \nJuly 10\nTBD \nJuly 17\nCheaky \nJuly 24\nStephen Dijoseph \nJuly 31\nRangers Nouveau Band-Carm Solo \nAugust 07\nSchool of Rock Doylestown \nAugust 14\nGene Cullison Solo \nAugust 21\nAndrew Lobby \nAugust 28\nJay Regen
URL:https://peddlersvillage.com/event/tunes-at-noon/2026-05-29/
LOCATION:Peddler’s Village\, 2400 Street Road\, New Hope\, PA\, 18938\, United States
CATEGORIES:Family Fun,Free Event,Home Event,Outdoor Event,Peddler's Village Events
ATTACH;FMTTYPE=image/gif:https://peddlersvillage.com/wp-content/uploads/2026/03/PV-Tunes25_01.gif
END:VEVENT
END:VCALENDAR