BEGIN:VCALENDAR
VERSION:2.0
PRODID:-//Peddler&#039;s Village - ECPv6.15.20//NONSGML v1.0//EN
CALSCALE:GREGORIAN
METHOD:PUBLISH
X-ORIGINAL-URL:https://peddlersvillage.com
X-WR-CALDESC:Events for Peddler&#039;s Village
REFRESH-INTERVAL;VALUE=DURATION:PT1H
X-Robots-Tag:noindex
X-PUBLISHED-TTL:PT1H
BEGIN:VTIMEZONE
TZID:America/New_York
BEGIN:DAYLIGHT
TZOFFSETFROM:-0500
TZOFFSETTO:-0400
TZNAME:EDT
DTSTART:20250309T070000
END:DAYLIGHT
BEGIN:STANDARD
TZOFFSETFROM:-0400
TZOFFSETTO:-0500
TZNAME:EST
DTSTART:20251102T060000
END:STANDARD
BEGIN:DAYLIGHT
TZOFFSETFROM:-0500
TZOFFSETTO:-0400
TZNAME:EDT
DTSTART:20260308T070000
END:DAYLIGHT
BEGIN:STANDARD
TZOFFSETFROM:-0400
TZOFFSETTO:-0500
TZNAME:EST
DTSTART:20261101T060000
END:STANDARD
BEGIN:DAYLIGHT
TZOFFSETFROM:-0500
TZOFFSETTO:-0400
TZNAME:EDT
DTSTART:20270314T070000
END:DAYLIGHT
BEGIN:STANDARD
TZOFFSETFROM:-0400
TZOFFSETTO:-0500
TZNAME:EST
DTSTART:20271107T060000
END:STANDARD
END:VTIMEZONE
BEGIN:VEVENT
DTSTART;TZID=America/New_York:20261203T190000
DTEND;TZID=America/New_York:20261203T220000
DTSTAMP:20260422T051440
CREATED:20191029T133555Z
LAST-MODIFIED:20251218T215340Z
UID:10002645-1796324400-1796335200@peddlersvillage.com
SUMMARY:Holiday Hustle
DESCRIPTION:Grab a Santa hat\, ugly sweater\, or elf costume and join hundreds of jolly runners and walkers of all ages and abilities for our 6th Annual Holiday Hustle under the lights! \nHoliday Hustle includes events for EVERYONE in your family\n• 2-mile run/jog/walk• 1-mile run/jog/walkWe suggest parking at Giggleberry Fair. \nRegister hereParticipation is limited to 1\,000. We expect a quick sell-out\, so register early! \nEvent organized by Scoogie Events. Presented by Scoogie Events and Peddler’s Village. The partner beneficiary for this event is The Bucks County Opportunity Council\, whose mission is to reduce poverty and partner with our community to promote economic self-sufficiency. \nPlease note:  Village walking paths and road traffic might be affected during those hours.
URL:https://peddlersvillage.com/event/holiday-hustle/
LOCATION:Peddler’s Village\, 2400 Street Road\, New Hope\, PA\, 18938\, United States
CATEGORIES:Family Fun,Holiday,Home Event,Outdoor Event,Peddler's Village Events
ATTACH;FMTTYPE=image/jpeg:https://peddlersvillage.com/wp-content/uploads/2021/12/ScoogieHoliday-1000x500-1.jpg
END:VEVENT
BEGIN:VEVENT
DTSTART;TZID=America/New_York:20261205T110000
DTEND;TZID=America/New_York:20261206T180000
DTSTAMP:20260422T051440
CREATED:20210805T154748Z
LAST-MODIFIED:20260323T142813Z
UID:10002404-1796468400-1796580000@peddlersvillage.com
SUMMARY:Holly Jolly Weekend
DESCRIPTION:Celebrate the holidays at the Holly Jolly Weekend on Saturday & Sunday\, December 5 & 6 with Santa Parades through the Village starting 1:30 p.m. both days. \nEnjoy live musical entertainment\, family activities\, holiday food and drink specials\, and a gingerbread display. Visit our 60+ specialty shops and boutiques to find fantastic gift-giving ideas. At 4:30 pm\, Peddler’s Village becomes a magical nighttime Christmas wonderland\, illuminated by a million colorful lights. Shops are open until 9 p.m. on Saturday and 7 p.m. on Sunday. Free admission and parking. \n\nDisclaimer: Please do not park in the surrounding residential neighborhoods. \n\nGINGERBREAD COMPETITION & DISPLAY\nCheck out the winners of the 42nd Annual Gingerbread Competition & Display. More than 100 creative and whimsical entries crafted by the public in different categories are on display in the Visitor & Event Center throughout through January 10\, 2027. Admission is free. \nThank you to our sponsor\nSponsorship OpportunitiesEntertainment Inquiries\nTag us (@peddlersvillage) in your photos on Instagram and Facebook! Happy strolling\, dining\, and shopping!\nPeddler’s Village regularly photographs events held on its property and periodically publishes these photographs on its website and social media channels. Media outlets might also take photographs and/or videos that will be broadcast publicly. It is possible the published photos or videos could include you and/or family members. Attendance at our events implies permission for us and other entities to include you in any photographs shared on any public platforms\, digital or otherwise. If you object to appearing in any photographs\, please email info@peddlersvillage.com before you attend an event. Thank you.
URL:https://peddlersvillage.com/event/holly-jolly-weekend/
LOCATION:Peddler’s Village\, 2400 Street Road\, New Hope\, PA\, 18938\, United States
CATEGORIES:Family Fun,Festival,Free Event,Holiday,Home Event,Santa
ATTACH;FMTTYPE=image/jpeg:https://peddlersvillage.com/wp-content/uploads/2021/08/PV-HollyJolly_1008x567.jpg
END:VEVENT
END:VCALENDAR