BEGIN:VCALENDAR
VERSION:2.0
PRODID:-//Peddler&#039;s Village - ECPv6.15.20//NONSGML v1.0//EN
CALSCALE:GREGORIAN
METHOD:PUBLISH
X-ORIGINAL-URL:https://peddlersvillage.com
X-WR-CALDESC:Events for Peddler&#039;s Village
REFRESH-INTERVAL;VALUE=DURATION:PT1H
X-Robots-Tag:noindex
X-PUBLISHED-TTL:PT1H
BEGIN:VTIMEZONE
TZID:America/New_York
BEGIN:DAYLIGHT
TZOFFSETFROM:-0500
TZOFFSETTO:-0400
TZNAME:EDT
DTSTART:20240310T070000
END:DAYLIGHT
BEGIN:STANDARD
TZOFFSETFROM:-0400
TZOFFSETTO:-0500
TZNAME:EST
DTSTART:20241103T060000
END:STANDARD
BEGIN:DAYLIGHT
TZOFFSETFROM:-0500
TZOFFSETTO:-0400
TZNAME:EDT
DTSTART:20250309T070000
END:DAYLIGHT
BEGIN:STANDARD
TZOFFSETFROM:-0400
TZOFFSETTO:-0500
TZNAME:EST
DTSTART:20251102T060000
END:STANDARD
BEGIN:DAYLIGHT
TZOFFSETFROM:-0500
TZOFFSETTO:-0400
TZNAME:EDT
DTSTART:20260308T070000
END:DAYLIGHT
BEGIN:STANDARD
TZOFFSETFROM:-0400
TZOFFSETTO:-0500
TZNAME:EST
DTSTART:20261101T060000
END:STANDARD
END:VTIMEZONE
BEGIN:VEVENT
DTSTART;VALUE=DATE:20250601
DTEND;VALUE=DATE:20250901
DTSTAMP:20260422T063616
CREATED:20250328T235316Z
LAST-MODIFIED:20250602T140704Z
UID:10007004-1748736000-1756684799@peddlersvillage.com
SUMMARY:Safari in Sand
DESCRIPTION:Larger-than-life sand sculptures are back\, and this year\, things are getting wild!\nThis summer\, adventure awaits at Peddler’s Village during Safari in Sand\, a FREE Village-wide display of majestic sand sculptures featuring iconic scenes straight from the Serengeti. Gather ’round the watering hole with a hippopotamus\, spot a lion in the grasslands\, and keep your eyes peeled for a surprise around the next corner! This free display is open to the public and will be on view through August 31. \nEnter to win an overnight stay!\nEnter our sweepstakes for a chance to win an overnight stay at the Golden Plough Inn\, our on-property inn boasting 67 charming rooms overlooking the Village! \nOne winner will be selected at random in June\, July\, and August! Each monthly winner will receive a gift certificate for an overnight stay\, breakfast for two\, plus a $150 dining gift card valid at Peddler’s Village restaurants — a $450 value! \nEnter to WinThe artists\nTeam Sandtastic\nDean Arscott\, Karen Fralich\, Dan Belcher\, Brian Turnbough\, Andy Daily\nTeam Sandtastic is based around the Tampa Bay Area\, and creates 100 to 150 unique sculptures a year. With a core team of full-time members and associate sculptors around the globe\, they create high quality sand sculptures worldwide. With over 30 years of experience\, Team Sandtastic creates one-of-a-kind works of art for corporate events\, weddings\, grand openings\, festivals\, advertising and sponsorships\, sporting events\, and more. They also hold the Guinness World Record for the tallest sandcastle ever handbuilt in under 100 man hours (28 ft. 7-1/4 in.\, 1998\, Georgia Stone Mountain Park). Sandtastic.com \nSand Sculptures by John Gowdy\nMaster Sand Sculptor John Gowdy\, a retired fire fighter from the Atlantic City Fire Department\, has been carving sand professionally for over 30 years. Working with his wife Laura\, he has won many national\, international\, and world-class first-place awards in just about every master sand sculpture competition on the planet. His greatest and most-often won prize is ‘People’s Choice.’ “We love pleasing the people who look at our sand displays and experience an emotional feeling from them\,” he says. Past clients include Pope Francis in the Vatican\, the White House Commission on Remembrance\, the Travel Channel\, and more. JohnGowdy.com \nThank you to our sponsors\nSafari in Sand is funded in part by the Bucks County Tourism Grant Program
URL:https://peddlersvillage.com/event/safari-in-sand/
LOCATION:Peddler’s Village\, 2400 Street Road\, New Hope\, PA\, 18938\, United States
CATEGORIES:Display,Family Fun,Free Event,Home Event,Outdoor Event,Peddler's Village Events
ATTACH;FMTTYPE=image/jpeg:https://peddlersvillage.com/wp-content/uploads/2025/05/PV-Sand25_05.jpg
END:VEVENT
BEGIN:VEVENT
DTSTART;VALUE=DATE:20250724
DTEND;VALUE=DATE:20250728
DTSTAMP:20260422T063616
CREATED:20250616T160749Z
LAST-MODIFIED:20250616T161728Z
UID:10007045-1753315200-1753660799@peddlersvillage.com
SUMMARY:Santa's Summer Holiday
DESCRIPTION:Santa’s coming to Peddler’s Village from July 24-27!\nSanta and Mrs. Claus booked a room at the Golden Plough Inn\, and we caught a glimpse of their vacation itinerary! Take a peek below and plan your visit to Peddler’s Village to take part in a weekend filled with holly jolly fun.
URL:https://peddlersvillage.com/event/santas-summer-holiday/
LOCATION:Peddler’s Village\, 2400 Street Road\, New Hope\, PA\, 18938\, United States
CATEGORIES:Family Fun,Free Event,Holiday,Home Event,Outdoor Event,Peddler's Village Events,Santa
ATTACH;FMTTYPE=image/jpeg:https://peddlersvillage.com/wp-content/uploads/2025/06/PV-SantaSummer25_1008x567.jpg
END:VEVENT
BEGIN:VEVENT
DTSTART;TZID=America/New_York:20250724T160000
DTEND;TZID=America/New_York:20250724T200000
DTSTAMP:20260422T063616
CREATED:20190103T151335Z
LAST-MODIFIED:20250724T155148Z
UID:10002436-1753372800-1753387200@peddlersvillage.com
SUMMARY:Food Truck Thursdays
DESCRIPTION:Enjoy an evening of the region’s favorite food trucks and local entertainment.\nJoin us for good food and family fun from 4:00 – 8:00 p.m. at the Outdoor Event Tent (next to the Visitor & Event Center). Bring a picnic blanket and your appetite. \n\nPSST…\nWord is a celebrity guest will be attending around 6PM all the way from the North Pole! Are those jingle bells we hear? \n\nFood Trucks\nDough & Co.Humpty’s DumplingsPazzo PizzaThe Comfort KitchenWrap ‘N Roll \nEntertainment\n5:00 PM – 8:00 PMNikki Briar Band (Trio)  \n5:30 PM – 7:30 PMFoam Party \nAre you a Food Truck interested in participating? Click here!Sponsored by\nSponsorship OpportunitiesEntertainment Inquiries\nTag us (@peddlersvillage) in your photos on Instagram and Facebook! Happy strolling\, dining\, and shopping!\nPeddler’s Village regularly photographs events held on its property and periodically publishes these photographs on its website and social media channels. Media outlets might also take photographs and/or videos that will be broadcast publicly. It is possible the published photos or videos could include you and/or family members. Attendance at our events implies permission for us and other entities to include you in any photographs shared on any public platforms\, digital or otherwise. If you object to appearing in any photographs\, please email info@peddlersvillage.com before you attend an event. Thank you.
URL:https://peddlersvillage.com/event/food-truck-thursdays-jul/
LOCATION:Peddler’s Village Event Tent\, Rte. 263 & Street Road\, Lahaska\, PA\, 18931
CATEGORIES:Dining Event,Family Fun,Home Event,Outdoor Event,Peddler's Village Events
ATTACH;FMTTYPE=image/jpeg:https://peddlersvillage.com/wp-content/uploads/2019/01/foodtruck-3.jpg
GEO:40.348435011684;-75.031389581684
X-APPLE-STRUCTURED-LOCATION;VALUE=URI;X-ADDRESS=Peddler’s Village Event Tent Rte. 263 & Street Road Lahaska PA 18931;X-APPLE-RADIUS=500;X-TITLE=Rte. 263 & Street Road:geo:-75.031389581684,40.348435011684
END:VEVENT
BEGIN:VEVENT
DTSTART;TZID=America/New_York:20250725T170000
DTEND;TZID=America/New_York:20250725T203000
DTSTAMP:20260422T063616
CREATED:20250612T160541Z
LAST-MODIFIED:20250725T213410Z
UID:10007044-1753462800-1753475400@peddlersvillage.com
SUMMARY:Safari Party (cancelled)
DESCRIPTION:This event has been cancelled due to inclement weather \n\nFollow the sound of steel drums to Street Road Green for a summer Safari Party!\nOn Friday\, July 25\, head to Peddler’s Village for a Safari in Sand celebration. Enjoy live music by Caribbean-fusion band Trinidelphia Steelpan Band\, foam party\, activities\, photo ops\, and pay-as-you-go tropical-themed food and drinks! Free admission. \n\nPSST…\nWord is a celebrity guest will be attending all the way from the North Pole! Are those jingle bells we hear? \n\nMenu\nHoney-Soy Chicken Skewers\npineapples\, cherry glaze \nTequila-Lime Shrimp Bowl\nrice\, stir-fry veggies\, crispy jalapeño\, cilantro \nCaramelized Onion & Pulled Pork Flatbread\nshredded cheddar jack cheese\, charred scallion and tomatillo salsa \nTropical Veggie Sliders\nhot pepper jelly\, shaved onions \nMarinated Flank Steak Lettuce Wraps\npickled red onion\, mango jam \nFresh Corn Chips\nlime salt and pineapple salsa \nFor the Lil’ Explorers\nChicken Nuggets & Fries\nchoice of: Polynesian sauce\, sweet & sour sauce\, barbecue sauce \nHot Dog\ntoppings \nDESSERT\nBeach Pudding Cups \nIce Cream Novelties \nKey Lime Cheesecakes \nTres Leches Cupcakes \nSponsored by
URL:https://peddlersvillage.com/event/safari-party/
LOCATION:Peddler’s Village\, 2400 Street Road\, New Hope\, PA\, 18938\, United States
CATEGORIES:Dining Event,Family Fun,Free Event,Home Event,Outdoor Event,Peddler's Village Events
ATTACH;FMTTYPE=image/jpeg:https://peddlersvillage.com/wp-content/uploads/2025/06/SafariParty.jpg
END:VEVENT
BEGIN:VEVENT
DTSTART;TZID=America/New_York:20250726T190000
DTEND;TZID=America/New_York:20250726T213000
DTSTAMP:20260422T063616
CREATED:20250605T195119Z
LAST-MODIFIED:20250627T222347Z
UID:10007041-1753556400-1753565400@peddlersvillage.com
SUMMARY:Murder Mystery Dinner: The Most Wonderful Crime of the Year
DESCRIPTION:The Most Wonderful Crime of the Year\nA murderously festive holiday comedy\nPresented in partnership with The Murder Mystery Co. \nWhile silver bells ring\, the audience gears up for laughs as the stand-up comic steps up to the mic. But the jolly jokester gets upstaged by an event far worse than lame holiday comedy: a murder! With the holiday tainted by humbug\, it’s up to the audience to unravel – like last year’s tacky knitted holiday sweater – the whodunnit mystery. While murder might make the seasonal night not so merry and bright\, solving the puzzle—gathering information\, hunting for clues\, and solving the crime with more than a few laughs– makes the night immensely entertaining! \nPlease note: Parties of fewer than ten people will likely be seated with others. The guests at each table will work together to solve the mystery. Part of the fun of this event is meeting and talking with new people. After the event\, you just might add new friendships to the list of evening accomplishments! \nPurchase TicketsWhat\nAn interactive murder mystery dinner featuring professional actors and several guests who become…suspects \nCost: $77 per person + processing fee. Gratuity included. \nWhen\nSaturday\, July 26 from 7:00 – 9:30 p.m. Please arrive by 6:00 p.m. in the Cock ‘n Bull lobby (located at Route 263 & Street Road\, Lahaska\, PA 18931) \nWhere\nCock ‘n Bull Restaurant(See accessibility information below) \nMenu\nStarter\nHouse Salad  \nEntree\nChoice of one: \nShort Ribs (GF)\nroasted garlic mashed potatoes\, green beans\, pickled blueberry sauce \nShrimp Cannelloni\ntomato béchamel\, green beans\, parmesan cheese \nEggplant Dumpling Puttanesca (vegetarian)\norecchiette pasta\, eggplant dumplings\, puttanesca sauce \nDessert\nCheesecake\nberry sauce \nCash Bar\nOpens at 6:30 p.m. through end of show \n\nImportant notes\n\nSome adult humor. Guests should be 18 and over.\nThis is designed as an interactive mystery in which guests are encouraged\, but not required\, to pose questions to actors and suspects to solve the mystery\n\nMake it an Overnight Stay\nHere’s a clue to turn your murder mystery evening into an overnight stay: book a room at the Golden Plough Inn at Peddler’s Village! Learn more. \n\nCANCELLATION POLICY\nThis event is rain or shine. Tickets purchased for Murder Mystery Events at Peddler’s Village are non-refundable. If you cannot attend your reserved date\, please call 215-794-4037 at least 4 days prior to your reserved date to reschedule your reservation to a later show. Peddler’s Village reserves the right to cancel show dates. Bookings for murder mystery guests at the Golden Plough Inn are also non-refundable unless cancelled at least four days in advance. \nNote: Guests will not receive physical tickets for this event. A completed purchase registers guests automatically for the event and guests can check-in with their names. Your email receipt serves as proof of purchase but guests do not need to present it at the performance. \nSeating\nSeating is general admission. Please note that parties fewer than ten will share a table with other attendees. \nDietary Restrictions\nPlease list any dietary restrictions and allergies in the box located on the upcoming Checkout page. We recommend booking by phone (215-794-4037) so we can best accommodate your diet. \nAccessibility\nShows will be held in the second floor banquet rooms of Cock ‘n Bull Restaurant\, which are accessible by both elevator and staircase. Please call our Reservation Manager at 215-794-4037 from 10:00 a.m.-5:00 p.m. for more information. \nPhotography\nAttendance at our events implies permission for us and other entities to include you in any photographs shared on any public platforms\, digital or otherwise. If you object to appearing in any photographs\, please email info@peddlersvillage.com. \nSponsored by\nBe aware of potential scams!\nNever purchase tickets for a Peddler’s Village event from an unknown third party. Contact Guest Services (215-794-4051 or gservices@peddlersvillage.com) to ask about tickets availability\, wait lists\, etc. Peddler’s Village will NOT honor any tickets that are not purchased directly from PeddlersVillage.com or in person at our Visitor & Event Center.
URL:https://peddlersvillage.com/event/mm-wonderfulcrime-072625/
LOCATION:Cock ‘n Bull Restaurant\, Route 263 & Street Road\, Lahaska\, PA\, 18931\, United States
CATEGORIES:Dining Event,Home Event,Peddler's Village Events
ATTACH;FMTTYPE=image/jpeg:https://peddlersvillage.com/wp-content/uploads/2025/06/PV-MM-WonderfulCrime_1008x567.jpg
GEO:40.348283;-75.0327604
X-APPLE-STRUCTURED-LOCATION;VALUE=URI;X-ADDRESS=Cock ‘n Bull Restaurant Route 263 & Street Road Lahaska PA 18931 United States;X-APPLE-RADIUS=500;X-TITLE=Route 263 & Street Road:geo:-75.0327604,40.348283
END:VEVENT
END:VCALENDAR