BEGIN:VCALENDAR
VERSION:2.0
PRODID:-//Peddler&#039;s Village - ECPv6.15.20//NONSGML v1.0//EN
CALSCALE:GREGORIAN
METHOD:PUBLISH
X-WR-CALNAME:Peddler&#039;s Village
X-ORIGINAL-URL:https://peddlersvillage.com
X-WR-CALDESC:Events for Peddler&#039;s Village
REFRESH-INTERVAL;VALUE=DURATION:PT1H
X-Robots-Tag:noindex
X-PUBLISHED-TTL:PT1H
BEGIN:VTIMEZONE
TZID:America/New_York
BEGIN:DAYLIGHT
TZOFFSETFROM:-0500
TZOFFSETTO:-0400
TZNAME:EDT
DTSTART:20250309T070000
END:DAYLIGHT
BEGIN:STANDARD
TZOFFSETFROM:-0400
TZOFFSETTO:-0500
TZNAME:EST
DTSTART:20251102T060000
END:STANDARD
BEGIN:DAYLIGHT
TZOFFSETFROM:-0500
TZOFFSETTO:-0400
TZNAME:EDT
DTSTART:20260308T070000
END:DAYLIGHT
BEGIN:STANDARD
TZOFFSETFROM:-0400
TZOFFSETTO:-0500
TZNAME:EST
DTSTART:20261101T060000
END:STANDARD
BEGIN:DAYLIGHT
TZOFFSETFROM:-0500
TZOFFSETTO:-0400
TZNAME:EDT
DTSTART:20270314T070000
END:DAYLIGHT
BEGIN:STANDARD
TZOFFSETFROM:-0400
TZOFFSETTO:-0500
TZNAME:EST
DTSTART:20271107T060000
END:STANDARD
END:VTIMEZONE
BEGIN:VEVENT
DTSTART;TZID=America/New_York:20261120T163000
DTEND;TZID=America/New_York:20261120T220000
DTSTAMP:20260420T063417
CREATED:20181030T093457Z
LAST-MODIFIED:20260102T153113Z
UID:10002257-1795192200-1795212000@peddlersvillage.com
SUMMARY:Grand Illumination Celebration
DESCRIPTION:Celebrating the 26th Annual\nGrand Illumination Celebration\nThe Village lights up on Friday\, November 20! Join us for our annual Grand Illumination show showcasing local music and dance performers in this beloved annual event. \nAt 6:15 p.m. sharp\, Santa and Mrs. Claus will flip the switch to illuminate Peddler’s Village. The holiday lights will be on display every evening through January 18\, 2027. Shops will be open until 10 p.m. Free admission and parking. \n\nIMPORTANT NOTE:\nVisitors who wish to experience the Grand Illumination Ceremony should plan to arrive no later than 5:30 p.m.  \nThis is a very popular event and parking can reach full capacity\, so please plan to arrive as early as possible. We would advise against bringing dogs to this event as the pathways become congested. If you miss this event\, don’t worry! The Holiday Kickoff Weekend continues on Saturday\, November 21 and on Sunday\, November 22\, and the Village is lit up in holiday splendor with a million colorful lights through early January 2027. \n\nHoliday Kickoff Weekend\nShops are open until 10 p.m. on November 20th to kick off the holidays! Check off your holiday gift list with refreshments in each shop and something for everyone\, November 20-22.  Click here to find out more! \nExtended Shopping Hours\nFriday\, November 20: 10 a.m. – 10 p.m.\nSaturday\, November 21: 10 a.m. – 9 p.m.\nSunday\, November 22: 11 a.m. – 7 p.m. \nThe Village’s extended holiday shopping hours begin on November 23 through December 30\, Monday through Saturday: 10 a.m. to 9 p.m.; Sunday: 11 a.m. to 7 p.m. \nGingerbread Competition & Display\nCheck out the winners of the 42nd Annual Gingerbread Competition & Display. More than 100 creative and whimsical entries crafted by the public in different categories are on display from November 20 through January 10\, 2027. Admission is free. \nDining\nEnjoy tasty food & drink at any of our eateries and tasting rooms. \nSponsorship OpportunitiesEntertainment Inquiries\nTag us (@peddlersvillage) in your photos on Instagram and Facebook! Happy strolling\, dining\, and shopping!\nPeddler’s Village regularly photographs events held on its property and periodically publishes these photographs on its website and social media channels. Media outlets might also take photographs and/or videos that will be broadcast publicly. It is possible the published photos or videos could include you and/or family members. Attendance at our events implies permission for us and other entities to include you in any photographs shared on any public platforms\, digital or otherwise. If you object to appearing in any photographs\, please email info@peddlersvillage.com before you attend an event. Thank you.
URL:https://peddlersvillage.com/event/grand-illumination-celebration/
LOCATION:Peddler’s Village\, 2400 Street Road\, New Hope\, PA\, 18938\, United States
CATEGORIES:Family Fun,Free Event,Holiday,Home Event,Outdoor Event,Peddler's Village Events,Santa
ATTACH;FMTTYPE=image/jpeg:https://peddlersvillage.com/wp-content/uploads/2018/10/PV-GI23.jpg
END:VEVENT
END:VCALENDAR