BEGIN:VCALENDAR
VERSION:2.0
PRODID:-//Peddler&#039;s Village - ECPv6.15.20//NONSGML v1.0//EN
CALSCALE:GREGORIAN
METHOD:PUBLISH
X-ORIGINAL-URL:https://peddlersvillage.com
X-WR-CALDESC:Events for Peddler&#039;s Village
REFRESH-INTERVAL;VALUE=DURATION:PT1H
X-Robots-Tag:noindex
X-PUBLISHED-TTL:PT1H
BEGIN:VTIMEZONE
TZID:America/New_York
BEGIN:DAYLIGHT
TZOFFSETFROM:-0500
TZOFFSETTO:-0400
TZNAME:EDT
DTSTART:20250309T070000
END:DAYLIGHT
BEGIN:STANDARD
TZOFFSETFROM:-0400
TZOFFSETTO:-0500
TZNAME:EST
DTSTART:20251102T060000
END:STANDARD
BEGIN:DAYLIGHT
TZOFFSETFROM:-0500
TZOFFSETTO:-0400
TZNAME:EDT
DTSTART:20260308T070000
END:DAYLIGHT
BEGIN:STANDARD
TZOFFSETFROM:-0400
TZOFFSETTO:-0500
TZNAME:EST
DTSTART:20261101T060000
END:STANDARD
BEGIN:DAYLIGHT
TZOFFSETFROM:-0500
TZOFFSETTO:-0400
TZNAME:EDT
DTSTART:20270314T070000
END:DAYLIGHT
BEGIN:STANDARD
TZOFFSETFROM:-0400
TZOFFSETTO:-0500
TZNAME:EST
DTSTART:20271107T060000
END:STANDARD
END:VTIMEZONE
BEGIN:VEVENT
DTSTART;TZID=America/New_York:20260529T120000
DTEND;TZID=America/New_York:20260529T130000
DTSTAMP:20260422T140855
CREATED:20260313T134036Z
LAST-MODIFIED:20260421T164333Z
UID:10007486-1780056000-1780059600@peddlersvillage.com
SUMMARY:Bucks Fever Tunes at Noon
DESCRIPTION:Presented in partnership with the Central Bucks Chamber of Commerce \nFree lunchtime concerts every Friday at noon!\nTunes at Noon is back! Head over to the Peddler’s Village main green every Friday from May 15 through August 28 to hear free performances by talented local musicians. Before the show\, place a takeout order at one of the many Peddler’s Village restaurants\, or dine afterwards in an air-conditioned restaurant or alfresco\, surrounded by picturesque Village scenery. \nMay 15\nThe Abandoned Lounge \nMay 22\nToo Many Cooks \nMay 29\nTBD \nJune 05\nCentral Bucks Groove Cuts Rock Band \nJune 12\nBreakfast at Judy’s \nJune 19\nGood Intentions \nJune 26\nTBD \nJuly 10\nTBD \nJuly 17\nCheaky \nJuly 24\nStephen Dijoseph \nJuly 31\nRangers Nouveau Band-Carm Solo \nAugust 07\nSchool of Rock Doylestown \nAugust 14\nGene Cullison Solo \nAugust 21\nAndrew Lobby \nAugust 28\nJay Regen
URL:https://peddlersvillage.com/event/tunes-at-noon/2026-05-29/
LOCATION:Peddler’s Village\, 2400 Street Road\, New Hope\, PA\, 18938\, United States
CATEGORIES:Family Fun,Free Event,Home Event,Outdoor Event,Peddler's Village Events
ATTACH;FMTTYPE=image/gif:https://peddlersvillage.com/wp-content/uploads/2026/03/PV-Tunes25_01.gif
END:VEVENT
END:VCALENDAR