BEGIN:VCALENDAR
VERSION:2.0
PRODID:-//Peddler&#039;s Village - ECPv6.15.20//NONSGML v1.0//EN
CALSCALE:GREGORIAN
METHOD:PUBLISH
X-WR-CALNAME:Peddler&#039;s Village
X-ORIGINAL-URL:https://peddlersvillage.com
X-WR-CALDESC:Events for Peddler&#039;s Village
REFRESH-INTERVAL;VALUE=DURATION:PT1H
X-Robots-Tag:noindex
X-PUBLISHED-TTL:PT1H
BEGIN:VTIMEZONE
TZID:America/New_York
BEGIN:DAYLIGHT
TZOFFSETFROM:-0500
TZOFFSETTO:-0400
TZNAME:EDT
DTSTART:20250309T070000
END:DAYLIGHT
BEGIN:STANDARD
TZOFFSETFROM:-0400
TZOFFSETTO:-0500
TZNAME:EST
DTSTART:20251102T060000
END:STANDARD
BEGIN:DAYLIGHT
TZOFFSETFROM:-0500
TZOFFSETTO:-0400
TZNAME:EDT
DTSTART:20260308T070000
END:DAYLIGHT
BEGIN:STANDARD
TZOFFSETFROM:-0400
TZOFFSETTO:-0500
TZNAME:EST
DTSTART:20261101T060000
END:STANDARD
BEGIN:DAYLIGHT
TZOFFSETFROM:-0500
TZOFFSETTO:-0400
TZNAME:EDT
DTSTART:20270314T070000
END:DAYLIGHT
BEGIN:STANDARD
TZOFFSETFROM:-0400
TZOFFSETTO:-0500
TZNAME:EST
DTSTART:20271107T060000
END:STANDARD
END:VTIMEZONE
BEGIN:VEVENT
DTSTART;VALUE=DATE:20260420
DTEND;VALUE=DATE:20260526
DTSTAMP:20260424T105544
CREATED:20240209T172440Z
LAST-MODIFIED:20260410T185741Z
UID:10005343-1776643200-1779753599@peddlersvillage.com
SUMMARY:Best of the Nest: Birdhouse Competition & Display
DESCRIPTION:An im-peck-able outdoor display!\nCelebrating nature\, habitats\, feathered friends\, and human creativity. \nPresented in partnership with AIA Bucks County and the Honey Hollow Nature Center celebrating\nThe 3rd annual Best of the Nest: Birdhouse Competition & Display runs from April 20 through May 25\, 2026 and showcases unique birdhouses designed and built by members of the public. Winners in each category are named by architects and bird experts. Scroll for this year’s winners! \n\nVote for your favorite birdhouse until May 10 through the Peddler’s Village mobile app \n\n\nCheck out all the Best of the Nest fun in this segment from WFMZ 69! \n\nSupport Local Nonprofits\nFor this event\, Peddler’s Village is proud to partner with the Bucks County Chapter of the American Institute of Architects and the Honey Hollow Nature Center. \nBy participating in this event as either a birdhouse creator or a visitor\, you can support two local nonprofits. Creators can donate their birdhouses to a fundraising auction\, and visitors can donate either directly or by “buying” additional votes for their People’s Choice favorites. Donations can be made and ballots can be obtained at the Visitor and Event Center on Street Road. \n\nBucks County Audubon Society at Honey Hollow \nHoney Hollow Nature Center was founded in 1969 to educate and engage children and adults of the greater Bucks County region about our natural world\, with an emphasis on conservation and stewardship\, including protection of birds\, wildlife\, and habitats. \nWe’re just around the corner from Peddler’s Village. Honey Hollow Nature Center maintains a thriving nature preserve with over six miles of hiking trails that are open to the public from dawn to dusk every day for hiking\, bird watching\, or just enjoying. The grounds boast an organic vegetable garden\, Audubon Pond\, meadows\, forests\, and of course\, the Honey Hollow creek. \nHoney Hollow Nature Center offers a wide variety of programs for all ages. Each year Honey Hollow provides high quality educational programs for over 5\,000 people\, from children at summer camp and field trips to birding trips and lectures for all ages. Visit honeyhollownaturecenter.org for more information on our programs. Venmo: @HoneyHollowTrails  \n\nAIA Bucks County’s George J. Donovan Memorial Scholarship \nAIA Bucks County’s George J. Donovan Memorial Scholarship assists Bucks County high school graduates (graduating seniors) interested in furthering their education in architecture and related fields. The scholarship was created in memory of George J. Donovan\, AIA who was instrumental in shaping the architecture of Bucks County during his career of over 50 years until his passing in 2018. In his retirement\, Mr. Donovan was a prolific watercolor artist who displayed his work in the former Upstairs Gallery at Peddler’s Village. Over the years\, Mr. Donovan and the firm that is part of his legacy\, Phillips & Donovan Architects\, LLC\, have been instrumental in the planning and design of many of the buildings in Peddler’s Village.
URL:https://peddlersvillage.com/event/best-of-the-nest/
LOCATION:Peddler’s Village\, 2400 Street Road\, New Hope\, PA\, 18938\, United States
CATEGORIES:Display,Family Fun,Home Event,Peddler's Village Events
ATTACH;FMTTYPE=image/jpeg:https://peddlersvillage.com/wp-content/uploads/2024/02/PV-Nest25_1008x567.jpg
END:VEVENT
BEGIN:VEVENT
DTSTART;VALUE=DATE:20260425
DTEND;VALUE=DATE:20260427
DTSTAMP:20260424T105544
CREATED:20260326T173217Z
LAST-MODIFIED:20260326T173217Z
UID:10007509-1777075200-1777247999@peddlersvillage.com
SUMMARY:Meet the Artists at Lighthouse Galleries
DESCRIPTION:Experience the magic of Disney \nat the Lighthouse Gallery Event on Saturday\, April 25 and Sunday\, April 26.  \nThomas Kinkade Studios invites you to a special event showcasing the latest Disney art releases.  \nMeet Artist Dirk Wunderlich\, who will be making an appearance\nand creating original sketches on the back of any Thomas Kinkade art purchases.  \nAdditionally\, Master Highlighter Christine Richards will be offering custom highlighting on canvases\, adding a personal touch to your artwork.  \nSpecial offer\nAs a bonus\, we now have enhanced jeweling available at this event for customers who buy the Disney Jewel Editions before or at the event. A $250 value – free with purchase.
URL:https://peddlersvillage.com/event/meet-the-artists-at-lighthouse-galleries/
LOCATION:Lighthouse Galleries\, Shop #60
CATEGORIES:Home Event,Merchant Event,Merchant Offers
ATTACH;FMTTYPE=image/jpeg:https://peddlersvillage.com/wp-content/uploads/2026/03/LighthouseGallery-Disney0426.jpg
END:VEVENT
BEGIN:VEVENT
DTSTART;TZID=America/New_York:20260425T130000
DTEND;TZID=America/New_York:20260425T150000
DTSTAMP:20260424T105544
CREATED:20260221T184816Z
LAST-MODIFIED:20260221T184816Z
UID:10007475-1777122000-1777129200@peddlersvillage.com
SUMMARY:Natalie Pompilio at the Lahaska Bookshop for Independent Bookstore Day
DESCRIPTION:Lahaska: Independent Bookstore Day w/ Natalie Pompilio ft. Philadelphia: A Walk Through History\nJoin us for a special Independent Bookstore Day event with local author Natalie Pompilio as she signs her book Philadelphia: A Walk Through History at The Lahaska Bookshop on Saturday\, April 25th\, 2026\, from 1:00 pm – 3:00 pm. \nAbout the Book:\nWelcome to Philadelphia\, birthplace of the United States 250 years ago and one of America’s most dynamic cities today. These guided walks will introduce you to the people who helped shape the nation and the places where they lived\, worked\, and made history. There are familiar names–it’s impossible to tell America’s origin story without mentioning Benjamin Franklin\, George Washington\, and Thomas Jefferson–but not all the stories you’ll read about them are well-known. You’ll meet lesser-known individuals–including women and enslaved Africans–who risked their lives and liberty because they believed in government for the people\, by the people. With author Natalie Pompilio as your guide\, these walks present history in a friendly and fascinating way\, including details that make these history-makers relatable. They were ordinary people in extraordinary circumstances who couldn’t foresee success but were willing to sacrifice for a more just way of life for all. Buy the book. \nAbout our Guest:\nAward-winning journalist Natalie Pompilio has lived and written in Philadelphia for more than 20 years. After staff positions at newspapers including The Philadelphia Inquirer and The Philadelphia Daily News\, Natalie began freelancing in 2007 and has had newspaper and magazine articles published nationally and internationally. Her Philadelphia-centric publications include the children’s book Philadelphia A to Z with photographer Jennifer Zdon; More Philadelphia Murals and the Stories They Tell with Jane Golden and Robin Rice; Walking Philadelphia: 30 Walking Tours Exploring Art\, Architecture\, History and Little-Known Gems with photographer Tricia Pompilio; and This Used to Be Philadelphia with photographer Tricia Pompilio. Natalie lives a mile south of the Liberty Bell in a three-story brick rowhouse located on an alley off an alley.
URL:https://peddlersvillage.com/event/natalie-pompilio-at-the-lahaska-bookshop-for-independent-bookstore-day/
LOCATION:Lahaska Bookshop\, Shop #162A
CATEGORIES:Merchant Event
ATTACH;FMTTYPE=image/png:https://peddlersvillage.com/wp-content/uploads/2026/02/LahaskaBookshop-pompilio.png
END:VEVENT
BEGIN:VEVENT
DTSTART;TZID=America/New_York:20260425T140000
DTEND;TZID=America/New_York:20260425T170000
DTSTAMP:20260424T105545
CREATED:20260203T154359Z
LAST-MODIFIED:20260218T142517Z
UID:10007389-1777125600-1777136400@peddlersvillage.com
SUMMARY:Music at Nissley Vineyards
DESCRIPTION:Sip and enjoy the melodies of local musicians select nights at Nissley Vineyards in Peddler’s Village.\nSchedule\nPlease note times of individual performances \nSat.\, February 7 | John DeRosa | 1-4PMSun.\, February 8 | Gene Cullison | 1-4PMSat.\, February 14 | Rob Creidler | 1-4PMSun.\, February 15 | Dr. Jeff | 1-4PMSat.\, February 21 | Dina Hall | 1-4PMSun.\, February 22 | Scot Silver | 1-4PMSat.\, February 28 | Colin York | 1-4PMSun.\, March 1 | Sean Breslin | 1-4PMSat.\, March 7 | Andrew Lobby | 1-4PMSun.\, March 8 | Justin Narisi | 1-4PMSat.\, March 14 | Keith Garner | 1-4PMSun.\, March 15 | Chris Alan Duo | 1-4PMSat.\, March 21 | Michael Montemurro | 1-4PMSun.\, March 22 | Melissa Ann | 1-4PMSat.\, March 28 | Mike & Jen | 1-4PMSun.\, March 29 | Kat Rivers | 1-4PMSat.\, April 4 | Joey DeNoble | 2-5 PMSat.\, April 11 | Far Out Folks | 2-5 PMSun.\, April 12 | Dillion Taylor | 1-4PMSat.\, April 18 | Sean Breslin | 2-5 PMSun.\, April 19 | Tim Schmid | 1-4PMSat.\, April 25 | Drew Passerini | 2-5 PMSun.\, April 26 | Gene Cullison | 1-4PM
URL:https://peddlersvillage.com/event/nissleymusic26/2026-04-25/
LOCATION:Nissley Vineyards\, Shop #20
CATEGORIES:Dining Event,Merchant Event
ATTACH;FMTTYPE=image/jpeg:https://peddlersvillage.com/wp-content/uploads/2022/12/Nissley-1008x567-1.jpg
END:VEVENT
BEGIN:VEVENT
DTSTART;TZID=America/New_York:20260425T190000
DTEND;TZID=America/New_York:20260425T213000
DTSTAMP:20260424T105545
CREATED:20260213T135554Z
LAST-MODIFIED:20260213T135554Z
UID:10007468-1777143600-1777152600@peddlersvillage.com
SUMMARY:Murder Mystery Dinner: I Love the 80s to Death
DESCRIPTION:I Love the 80s to Death\nA Rockin’ Radical Night of Music and Intrigue\nPresented in partnership with The Murder Mystery Co. \nPut on some 80s garb\, muster your best murder-solving skills\, and join us for a rollicking\, interactive mystery party! \nStep back into the decade of big hair\, leg warmers\, Members Only jackets\, and some of the best top-40 tunes ever to hit the airwaves! \nHere’s the situation: Big-name musicians are gathering for a big concert\, but backstage tensions are high. Secrets are spilling out with\, like\, totally tragic results. This isn’t a TV episode of Miami Vice. It’s\, really\, like…murder. \nBut you’re about to solve the crime in style—80s style\, that is! Remember: It’s no time to be Too Shy. You are a Smooth Operator\, and you know to listen to those Careless Whispers. It’s time to put on your Sunglasses at Night and Relax. Time after Time…You’ll collect the clues and solve the case. \nPlease note: Parties of fewer than ten people will likely be seated with others. The guests at each table will work together to solve the mystery. Part of the fun of this event is meeting and talking with new people. After the event\, you just might add new friendships to the list of evening accomplishments! \nPurchase TicketsWhat\nAn interactive murder mystery dinner featuring professional actors and several guests who become…suspects \nCost: $77 per person + processing fee. Gratuity included. \nWhen\nSaturday\, April 25 from 7:00 – 9:30 p.m. \nPlease arrive by 6:00 p.m. in the Cock ‘n Bull lobby (located at Route 263 & Street Road\, Lahaska\, PA 18931) \nWhere\nCock ‘n Bull Restaurant\n(See accessibility information below) \n\nMenu\nStarter\nGarden Salad  \nEntree\nChoice of one:\nShort Ribs (GF)\nmashed potatoes\, baby carrots & braised greens\, brandy jus \nRoasted Salmon (GF)\ncarrot-ginger puree\, grilled scallion quinoa\, miso-mustard sauce \nHerbs de Provence Roasted Chicken (GF)\nroasted-garlic mashed potatoes\, butternut squash & apple hash\, thyme sauce \nEggplant Dumpling Puttanesca (vegetarian)\norecchiette pasta\, eggplant dumplings\, puttanesca sauce \nDessert\nCheesecake\nberry sauce \nCash Bar\nOpens at 6:30 p.m. through end of show \n\nImportant notes\n\nSome adult humor. Guests should be 18 and over.\nGuests are encouraged\, but not required\, to wear 80s clothing and costumes. Some ideas:\nNeon colors\nLeg warmers\nRay-Ban sunglasses\nRipped\, off-the-shoulder sweatshirts\nJean or leather jackets\nBig hair\nAccessories such as headbands\, wrist cuffs\, fingerless gloves\, chains\, or beads\nThis is designed as an interactive mystery in which guests are encouraged\, but not required\, to pose questions to actors and suspects to solve the mystery\n\nMake it an Overnight Stay\nHere’s a clue to turn your murder mystery evening into an overnight stay: book a room at the Golden Plough Inn at Peddler’s Village! Learn more. \n\nCANCELLATION POLICY\nThis event is rain or shine. Tickets purchased for Murder Mystery Events at Peddler’s Village are non-refundable. If you cannot attend your reserved date\, please call 215-794-4037 at least 4 days prior to your reserved date to reschedule your reservation to a later show. Peddler’s Village reserves the right to cancel show dates. Bookings for murder mystery guests at the Golden Plough Inn are also non-refundable unless cancelled at least four days in advance. \nNote: Guests will not receive physical tickets for this event. A completed purchase registers guests automatically for the event and guests can check-in with their names. Your email receipt serves as proof of purchase but guests do not need to present it at the performance. \n\nSeating\nSeating is general admission. Please note that parties fewer than ten will share a table with other attendees. Please put seating preferences in the appropriate box at checkout\, and we will try and accommodate your request. \n\nDietary Restrictions\nPlease list any dietary restrictions and allergies in the “Additional Information” box located on the upcoming Checkout page. We recommend booking by phone (215-794-4037) so we can best accommodate your diet. \nAccessibility\nShows will be held in the second floor banquet rooms of Cock ‘n Bull Restaurant\, which are accessible by both elevator and staircase. Please call our Reservation Manager at 215-794-4037 from 10:00 a.m.-5:00 p.m. for more information. \nPhotography\nAttendance at our events implies permission for us and other entities to include you in any photographs shared on any public platforms\, digital or otherwise. If you object to appearing in any photographs\, please email info@peddlersvillage.com. \nBe aware of potential scams!\nNever purchase tickets for a Peddler’s Village event from an unknown third party. Contact Guest Services (215-794-4051 or gservices@peddlersvillage.com) to ask about tickets availability\, wait lists\, etc. Peddler’s Village will NOT honor any tickets that are not purchased directly from PeddlersVillage.com or in person at our Visitor & Event Center.
URL:https://peddlersvillage.com/event/mm-80s-042526/
LOCATION:Cock ‘n Bull Restaurant\, Route 263 & Street Road\, Lahaska\, PA\, 18931\, United States
CATEGORIES:Dining Event,Home Event,Peddler's Village Events
ATTACH;FMTTYPE=image/jpeg:https://peddlersvillage.com/wp-content/uploads/2024/04/PV-MM-80s_1008x567.jpg
GEO:40.348283;-75.0327604
X-APPLE-STRUCTURED-LOCATION;VALUE=URI;X-ADDRESS=Cock ‘n Bull Restaurant Route 263 & Street Road Lahaska PA 18931 United States;X-APPLE-RADIUS=500;X-TITLE=Route 263 & Street Road:geo:-75.0327604,40.348283
END:VEVENT
END:VCALENDAR