BEGIN:VCALENDAR
VERSION:2.0
PRODID:-//Peddler&#039;s Village - ECPv6.15.20//NONSGML v1.0//EN
CALSCALE:GREGORIAN
METHOD:PUBLISH
X-WR-CALNAME:Peddler&#039;s Village
X-ORIGINAL-URL:https://peddlersvillage.com
X-WR-CALDESC:Events for Peddler&#039;s Village
REFRESH-INTERVAL;VALUE=DURATION:PT1H
X-Robots-Tag:noindex
X-PUBLISHED-TTL:PT1H
BEGIN:VTIMEZONE
TZID:America/New_York
BEGIN:DAYLIGHT
TZOFFSETFROM:-0500
TZOFFSETTO:-0400
TZNAME:EDT
DTSTART:20250309T070000
END:DAYLIGHT
BEGIN:STANDARD
TZOFFSETFROM:-0400
TZOFFSETTO:-0500
TZNAME:EST
DTSTART:20251102T060000
END:STANDARD
BEGIN:DAYLIGHT
TZOFFSETFROM:-0500
TZOFFSETTO:-0400
TZNAME:EDT
DTSTART:20260308T070000
END:DAYLIGHT
BEGIN:STANDARD
TZOFFSETFROM:-0400
TZOFFSETTO:-0500
TZNAME:EST
DTSTART:20261101T060000
END:STANDARD
BEGIN:DAYLIGHT
TZOFFSETFROM:-0500
TZOFFSETTO:-0400
TZNAME:EDT
DTSTART:20270314T070000
END:DAYLIGHT
BEGIN:STANDARD
TZOFFSETFROM:-0400
TZOFFSETTO:-0500
TZNAME:EST
DTSTART:20271107T060000
END:STANDARD
END:VTIMEZONE
BEGIN:VEVENT
DTSTART;VALUE=DATE:20260221
DTEND;VALUE=DATE:20270101
DTSTAMP:20260422T063427
CREATED:20260221T190148Z
LAST-MODIFIED:20260221T190148Z
UID:10007477-1771632000-1798761599@peddlersvillage.com
SUMMARY:Lab-Grown Diamond Trade-in at Blake Jewelers
DESCRIPTION:100% Trade-In Value. Lab or Natural. Forever.\nThey say lab-grown diamonds are worthless. We’re proving them wrong. We are the only jeweler in the USA offering a 100% Trade-In policy on lab-grown jewelry—permanently and retroactively. \nThe Offer: Get 100% of your original purchase price credited toward an upgrade. \nThe Simple Terms: \n\nThe 2x Rule: Your new piece must be 2x the value of the original or more.\nLike-for-Like: Trade lab for lab or natural for natural.\nCategory Match: Your upgrade must stay in-category (Bridal for Bridal\, Studs for Studs\, etc.).\n\nDon’t let them devalue your jewelry. Secure your investment with the leader in lab-grown value.
URL:https://peddlersvillage.com/event/lab-grown-diamond-trade-in-at-blake-jewelers/
LOCATION:Blake Jewelers\, Shop #5
CATEGORIES:Merchant Offers
ATTACH;FMTTYPE=image/jpeg:https://peddlersvillage.com/wp-content/uploads/2026/02/Blake-diamondtradein.jpg
END:VEVENT
BEGIN:VEVENT
DTSTART;VALUE=DATE:20260309
DTEND;VALUE=DATE:20260501
DTSTAMP:20260422T063427
CREATED:20260313T201942Z
LAST-MODIFIED:20260318T181320Z
UID:10007502-1773014400-1777593599@peddlersvillage.com
SUMMARY:Blake Jewelers Loyalty Event & Anniversary Sale
DESCRIPTION:10th Semi-Annual Loyalty Event & 5th Anniversary Sale\nCelebrate with Blake Jewelers! We are doubling down on the festivities this season. Whether you are looking for the perfect wedding band\, a shimmering gift\, or want to maximize your loyalty rewards\, March 9th – April 4th\, 2026 is the time to visit. \nSpecial Anniversary Savings\nEnjoy deep discounts across our most popular collections: \n\n60% OFF: Signature & From the Earth Collections\n60% OFF: Labradorite & Larimar Jewelry\n40% OFF: Silver Moissanite\n40% OFF: Silver Moonstone\, Onyx\, Pearl\, and Opal\n30% OFF: Sterling Silver Jewelry\n30% OFF: Gold Filled Jewelry\n20% OFF: Gold Wedding Bands\nBOGO 50% OFF: Stainless Steel (Mix and Match!)\n\nLoyalty Member Exclusives\nWe’re saying “thank you” to our loyal customers with boosted rewards for a limited time: \n\nTriple Your Points: Earn 3x Points on all purchases now through April 30th.\nBoosted Point Value: From March 9th through April 4th\, your points are worth even more! Redeem at a rate of 40 points = $1.
URL:https://peddlersvillage.com/event/blake-jewelers-anniversary-sale/
LOCATION:Blake Jewelers\, Shop #5
CATEGORIES:Merchant Offers
ATTACH;FMTTYPE=image/jpeg:https://peddlersvillage.com/wp-content/uploads/2026/03/Blake-10sale.jpg
END:VEVENT
BEGIN:VEVENT
DTSTART;TZID=America/New_York:20260401T080000
DTEND;TZID=America/New_York:20260505T170000
DTSTAMP:20260422T063427
CREATED:20260401T162411Z
LAST-MODIFIED:20260401T162411Z
UID:10007511-1775030400-1778000400@peddlersvillage.com
SUMMARY:Mother's Day Specials at Lucky Cupcake
DESCRIPTION:Treat the mom in your life to something sweet – floral cupcakes\, 6″ Mother’s Day cakes\, floral macarons\, brunch options and more! Pre-order deadline is May 5. In-store supply is limited. Ordering ahead is highly recommended. Full menu available below. \nView Menu
URL:https://peddlersvillage.com/event/mothers-day-specials-at-lucky-cupcake/
LOCATION:The Lucky Cupcake Company’s Village Bakery\, Shop #29
CATEGORIES:Merchant Offers
ATTACH;FMTTYPE=image/jpeg:https://peddlersvillage.com/wp-content/uploads/2026/04/LCC-Mom26.jpg
END:VEVENT
BEGIN:VEVENT
DTSTART;VALUE=DATE:20260420
DTEND;VALUE=DATE:20260526
DTSTAMP:20260422T063427
CREATED:20240209T172440Z
LAST-MODIFIED:20260410T185741Z
UID:10005343-1776643200-1779753599@peddlersvillage.com
SUMMARY:Best of the Nest: Birdhouse Competition & Display
DESCRIPTION:An im-peck-able outdoor display!\nCelebrating nature\, habitats\, feathered friends\, and human creativity. \nPresented in partnership with AIA Bucks County and the Honey Hollow Nature Center celebrating\nThe 3rd annual Best of the Nest: Birdhouse Competition & Display runs from April 20 through May 25\, 2026 and showcases unique birdhouses designed and built by members of the public. Winners in each category are named by architects and bird experts. Scroll for this year’s winners! \n\nVote for your favorite birdhouse until May 10 through the Peddler’s Village mobile app \n\n\nCheck out all the Best of the Nest fun in this segment from WFMZ 69! \n\nSupport Local Nonprofits\nFor this event\, Peddler’s Village is proud to partner with the Bucks County Chapter of the American Institute of Architects and the Honey Hollow Nature Center. \nBy participating in this event as either a birdhouse creator or a visitor\, you can support two local nonprofits. Creators can donate their birdhouses to a fundraising auction\, and visitors can donate either directly or by “buying” additional votes for their People’s Choice favorites. Donations can be made and ballots can be obtained at the Visitor and Event Center on Street Road. \n\nBucks County Audubon Society at Honey Hollow \nHoney Hollow Nature Center was founded in 1969 to educate and engage children and adults of the greater Bucks County region about our natural world\, with an emphasis on conservation and stewardship\, including protection of birds\, wildlife\, and habitats. \nWe’re just around the corner from Peddler’s Village. Honey Hollow Nature Center maintains a thriving nature preserve with over six miles of hiking trails that are open to the public from dawn to dusk every day for hiking\, bird watching\, or just enjoying. The grounds boast an organic vegetable garden\, Audubon Pond\, meadows\, forests\, and of course\, the Honey Hollow creek. \nHoney Hollow Nature Center offers a wide variety of programs for all ages. Each year Honey Hollow provides high quality educational programs for over 5\,000 people\, from children at summer camp and field trips to birding trips and lectures for all ages. Visit honeyhollownaturecenter.org for more information on our programs. Venmo: @HoneyHollowTrails  \n\nAIA Bucks County’s George J. Donovan Memorial Scholarship \nAIA Bucks County’s George J. Donovan Memorial Scholarship assists Bucks County high school graduates (graduating seniors) interested in furthering their education in architecture and related fields. The scholarship was created in memory of George J. Donovan\, AIA who was instrumental in shaping the architecture of Bucks County during his career of over 50 years until his passing in 2018. In his retirement\, Mr. Donovan was a prolific watercolor artist who displayed his work in the former Upstairs Gallery at Peddler’s Village. Over the years\, Mr. Donovan and the firm that is part of his legacy\, Phillips & Donovan Architects\, LLC\, have been instrumental in the planning and design of many of the buildings in Peddler’s Village.
URL:https://peddlersvillage.com/event/best-of-the-nest/
LOCATION:Peddler’s Village\, 2400 Street Road\, New Hope\, PA\, 18938\, United States
CATEGORIES:Display,Family Fun,Home Event,Peddler's Village Events
ATTACH;FMTTYPE=image/jpeg:https://peddlersvillage.com/wp-content/uploads/2024/02/PV-Nest25_1008x567.jpg
END:VEVENT
END:VCALENDAR